BEGIN:VCALENDAR
VERSION:2.0
PRODID:-//Autumn Ridge - ECPv6.15.20//NONSGML v1.0//EN
CALSCALE:GREGORIAN
METHOD:PUBLISH
X-ORIGINAL-URL:https://autumnridgegolfcourse.com
X-WR-CALDESC:Events for Autumn Ridge
REFRESH-INTERVAL;VALUE=DURATION:PT1H
X-Robots-Tag:noindex
X-PUBLISHED-TTL:PT1H
BEGIN:VTIMEZONE
TZID:America/Toronto
BEGIN:DAYLIGHT
TZOFFSETFROM:-0500
TZOFFSETTO:-0400
TZNAME:EDT
DTSTART:20250309T070000
END:DAYLIGHT
BEGIN:STANDARD
TZOFFSETFROM:-0400
TZOFFSETTO:-0500
TZNAME:EST
DTSTART:20251102T060000
END:STANDARD
BEGIN:DAYLIGHT
TZOFFSETFROM:-0500
TZOFFSETTO:-0400
TZNAME:EDT
DTSTART:20260308T070000
END:DAYLIGHT
BEGIN:STANDARD
TZOFFSETFROM:-0400
TZOFFSETTO:-0500
TZNAME:EST
DTSTART:20261101T060000
END:STANDARD
BEGIN:DAYLIGHT
TZOFFSETFROM:-0500
TZOFFSETTO:-0400
TZNAME:EDT
DTSTART:20270314T070000
END:DAYLIGHT
BEGIN:STANDARD
TZOFFSETFROM:-0400
TZOFFSETTO:-0500
TZNAME:EST
DTSTART:20271107T060000
END:STANDARD
END:VTIMEZONE
BEGIN:VEVENT
DTSTART;TZID=America/Toronto:20260517T093000
DTEND;TZID=America/Toronto:20260517T133000
DTSTAMP:20260422T124028
CREATED:20230214T170318Z
LAST-MODIFIED:20260309T220610Z
UID:6034-1779010200-1779024600@autumnridgegolfcourse.com
SUMMARY:Early Bird Breakfast Scramble
DESCRIPTION:Hosted by: Autumn Ridge Golf Club\nSunday\, May 17th\, 2026\nBreakfast: 8:00a.m.-9:00a.m.\nShotgun Start: 9:30a.m.\nEntry Fee: $70.00 per person\n(member entry fee = $50.00)\nIncludes: 18-holes of golf with cart\, Breakfast before Golf\,\nBox Lunch after Golf\, 3 Scratch off Tickets\,\nSkins Game\, Hole events\, & Cash prizes. \n  \nEntry Form: Early Bird 2026
URL:https://autumnridgegolfcourse.com/event/early-bird-breakfast-scramble/
END:VEVENT
END:VCALENDAR