BEGIN:VCALENDAR
VERSION:2.0
PRODID:-//Autumn Ridge - ECPv6.15.20//NONSGML v1.0//EN
CALSCALE:GREGORIAN
METHOD:PUBLISH
X-WR-CALNAME:Autumn Ridge
X-ORIGINAL-URL:https://autumnridgegolfcourse.com
X-WR-CALDESC:Events for Autumn Ridge
REFRESH-INTERVAL;VALUE=DURATION:PT1H
X-Robots-Tag:noindex
X-PUBLISHED-TTL:PT1H
BEGIN:VTIMEZONE
TZID:America/Chicago
BEGIN:DAYLIGHT
TZOFFSETFROM:-0600
TZOFFSETTO:-0500
TZNAME:CDT
DTSTART:20250309T080000
END:DAYLIGHT
BEGIN:STANDARD
TZOFFSETFROM:-0500
TZOFFSETTO:-0600
TZNAME:CST
DTSTART:20251102T070000
END:STANDARD
BEGIN:DAYLIGHT
TZOFFSETFROM:-0600
TZOFFSETTO:-0500
TZNAME:CDT
DTSTART:20260308T080000
END:DAYLIGHT
BEGIN:STANDARD
TZOFFSETFROM:-0500
TZOFFSETTO:-0600
TZNAME:CST
DTSTART:20261101T070000
END:STANDARD
BEGIN:DAYLIGHT
TZOFFSETFROM:-0600
TZOFFSETTO:-0500
TZNAME:CDT
DTSTART:20270314T080000
END:DAYLIGHT
BEGIN:STANDARD
TZOFFSETFROM:-0500
TZOFFSETTO:-0600
TZNAME:CST
DTSTART:20271107T070000
END:STANDARD
END:VTIMEZONE
BEGIN:VTIMEZONE
TZID:America/Toronto
BEGIN:DAYLIGHT
TZOFFSETFROM:-0500
TZOFFSETTO:-0400
TZNAME:EDT
DTSTART:20220313T070000
END:DAYLIGHT
BEGIN:STANDARD
TZOFFSETFROM:-0400
TZOFFSETTO:-0500
TZNAME:EST
DTSTART:20221106T060000
END:STANDARD
BEGIN:DAYLIGHT
TZOFFSETFROM:-0500
TZOFFSETTO:-0400
TZNAME:EDT
DTSTART:20230312T070000
END:DAYLIGHT
BEGIN:STANDARD
TZOFFSETFROM:-0400
TZOFFSETTO:-0500
TZNAME:EST
DTSTART:20231105T060000
END:STANDARD
BEGIN:DAYLIGHT
TZOFFSETFROM:-0500
TZOFFSETTO:-0400
TZNAME:EDT
DTSTART:20240310T070000
END:DAYLIGHT
BEGIN:STANDARD
TZOFFSETFROM:-0400
TZOFFSETTO:-0500
TZNAME:EST
DTSTART:20241103T060000
END:STANDARD
END:VTIMEZONE
BEGIN:VEVENT
DTSTART;TZID=America/Chicago:20260426T100000
DTEND;TZID=America/Chicago:20260426T140000
DTSTAMP:20260422T182340
CREATED:20230214T163318Z
LAST-MODIFIED:20260309T214018Z
UID:6020-1777197600-1777212000@autumnridgegolfcourse.com
SUMMARY:Spring Kick-Off
DESCRIPTION:Spring Kickoff Scramble\nHosted By: Autumn Ridge Golf Club\nSunday April 26th – 10:00a.m. Shotgun Start \n$65.00 per person\n(Members – $45.00)\nIncludes: 18-holes of golf with cart\nBrat and Burger Lunch\nPin event prizes\nSkins Game Included\n& Cash Prizes \nEntry Form: Spring Kickoff 2026
URL:https://autumnridgegolfcourse.com/event/spring-kick-off/
END:VEVENT
BEGIN:VEVENT
DTSTART;TZID=America/Toronto:20230808T113000
DTEND;TZID=America/Toronto:20230808T170000
DTSTAMP:20260422T182340
CREATED:20230214T194449Z
LAST-MODIFIED:20230214T194449Z
UID:6086-1691494200-1691514000@autumnridgegolfcourse.com
SUMMARY:Big Brothers Big Sisters Golf Fore Kids
DESCRIPTION:Events — Big Brothers Big Sisters WI Shoreline (bbbswishoreline.org)
URL:https://autumnridgegolfcourse.com/event/big-brothers-big-sisters-golf-fore-kids/
END:VEVENT
END:VCALENDAR